BEGIN:VCALENDAR
VERSION:2.0
PRODID:-//Czech &amp; Slovak Association of Western Australia - ECPv6.15.20//NONSGML v1.0//EN
CALSCALE:GREGORIAN
METHOD:PUBLISH
X-WR-CALNAME:Czech &amp; Slovak Association of Western Australia
X-ORIGINAL-URL:https://www.czechslovakwa.org
X-WR-CALDESC:Events for Czech &amp; Slovak Association of Western Australia
REFRESH-INTERVAL;VALUE=DURATION:PT1H
X-Robots-Tag:noindex
X-PUBLISHED-TTL:PT1H
BEGIN:VTIMEZONE
TZID:Australia/Perth
BEGIN:STANDARD
TZOFFSETFROM:+0800
TZOFFSETTO:+0800
TZNAME:AWST
DTSTART:20240101T000000
END:STANDARD
END:VTIMEZONE
BEGIN:VEVENT
DTSTART;TZID=Australia/Perth:20251116T180000
DTEND;TZID=Australia/Perth:20251116T203000
DTSTAMP:20260421T175420
CREATED:20251003T145637Z
LAST-MODIFIED:20251007T215127Z
UID:10000036-1763316000-1763325000@www.czechslovakwa.org
SUMMARY:Don't Look Away
DESCRIPTION:Věra Čáslavská \n\n\nDON’T LOOK AWAY \n\n\n\n\nThe story of a silent protest and the price paid \n\n\nAshley Morrison: it is time that the world knew her story \n\n\nAshley Morrison Media and CSA of WA proudly present a powerful documentary film of one of the world’s best gymnast of its time.  \nThe Mexico Olympic Games 1968 \nCelebrated as a national treasure\, few outside the Czech Republic remember the subtle gesture of defiance that inspired so many yet was so costly to Věra Čáslavská.  \n16 November 2025\, Luna Palace Cinemas Leederville \n\n\n\n\n\n\n\n\n\n\n  \nPROGRAM: \n6:00 pm Refreshments \n\n\n6:30 pm Movie \n\n\n8:00 pm Q&A with the Film Producer
URL:https://www.czechslovakwa.org/event/movie/
LOCATION:Luna Palace Cinemas Leederville\, 155 OXFORD STREET\, Leederville\, WA\, 6007\, Australia
ATTACH;FMTTYPE=image/png:https://www.czechslovakwa.org/wp-content/uploads/2025/10/3-e1759506332637.png
ORGANIZER;CN="Czech and Slovak Association of Western Australia%2C Inc.":MAILTO:csa@czechslovakWA.org
END:VEVENT
BEGIN:VEVENT
DTSTART;TZID=Australia/Perth:20250322T150000
DTEND;TZID=Australia/Perth:20250322T220000
DTSTAMP:20260421T175420
CREATED:20250216T025402Z
LAST-MODIFIED:20250425T171947Z
UID:10000026-1742655600-1742680800@www.czechslovakwa.org
SUMMARY:Harmony Day
DESCRIPTION:Harmony Day 2025 – Celebration of friendship among the Hungarian\, Polish\, Czech and Slovak people of Western Australia\n22 March 2025Polish Club Sikorski\, 7 Bellevue Road\, BellevueStart: 3:00 PM | End: 10:00 PMFree entry!\n\nJoin us for a joyful celebration of culture and friendship!\nHarmony Day is a time to come together\, celebrate diversity\, and enjoy the rich traditions of Poland\, Czechia\, Hungary\, and Slovakia. Get ready for a fun-filled day for the whole family!\n\nWhat to expect?\n\nFolkloric performances and live music\nPetting zoo for kids\nFace painting and children’s activities\nGreat music all day – Polish\, Czech\, Hungarian\, and Slovak hits\nDelicious food! Traditional dishes from Poland\, Czechia\, Hungary\, and Slovakia\nRaffle\, fun games\, and entertainment\n\nWe encourage everyone to wear the colors of their country or traditional folk costumes! It will be a vibrant\, tasty\, and joyful day!\nMore details coming soon! Don’t miss out on this special event!
URL:https://www.czechslovakwa.org/event/harmony-day/
LOCATION:Polish Club Sikorski\, 7 Bellevue Road\, Bellevue\, WA\, 6056\, Australia
ATTACH;FMTTYPE=image/jpeg:https://www.czechslovakwa.org/wp-content/uploads/2025/02/img-Harmony-Day-FB-event.jpg
ORGANIZER;CN="Czech and Slovak Association of Western Australia%2C Inc.":MAILTO:csa@czechslovakWA.org
END:VEVENT
BEGIN:VEVENT
DTSTART;TZID=Australia/Perth:20250222T154500
DTEND;TZID=Australia/Perth:20250222T180000
DTSTAMP:20260421T175420
CREATED:20250123T044536Z
LAST-MODIFIED:20250425T172016Z
UID:10000023-1740239100-1740247200@www.czechslovakwa.org
SUMMARY:Bowling for the Youth
DESCRIPTION:We are thrilled to announce our new initiative and invite our young community members to join us in a game of tenpin bowling. \nThis event is open to: \n\nyouth aged 10+ years\ntheir parents\, grandparents\, and\ntheir younger siblings aged 6+\n\nWhat you can expect / what is included: \n\n2 games of bowling\nsmall meal & drink (hot dog\, fries\, soft drink)\nprize for the winners of each age category\n\nFriends and families are welcome to form teams. \nRegistration of players is essential. Registrations will close Sunday February 16 at 21:00 sharp. \nAny late bookings can be made only via the bowling center website and their full price will be applicable (cost will not be subsidized by our club if you register late)\, subject to availability. \nDietary requirements: Please contact us if you have any special dietary requirements (allergies). It is essential to notify us via the club e-mail or web form by Sunday February 16 21:00. \nTickets: \n\nYouth – 2025 Family membership paid – $25\nYouth – Non-member – $35\nAccompanying adults incl. 2 games\, food & drink – $38\nAccompanying persons (no games\, food or drink) – Free\n\nYou are welcome to register / renew your membership in the Czech and Slovak Association of WA\, Inc. today and purchase tickets for the members` price. \nREGISTER / EXTEND YOUR FAMILY MEMBERSHIP ONLINE NOW \nCancellations & Refund Policy: \n\nCancellations must be submitted directly to the Czech and Slovak Association of WA in writing\, via e-mail sent to csa@czechslovakwa.org. Any cancellations will be confirmed by return e-mail.\nCancellations received by Sunday 16th February 2025 21:00 hours – Full refund (minus online transaction surcharge)\nCancellations received after Sunday 16th February 2025 21:00 hours – No refund\, unless someone else wishes to adopt your tickets.
URL:https://www.czechslovakwa.org/event/bowling-for-the-youth/
LOCATION:Zone Bowling Cannington\, Crn Manning Rd & Burton St\, Cannington\, Western Australia\, Australia
ATTACH;FMTTYPE=image/jpeg:https://www.czechslovakwa.org/wp-content/uploads/2025/01/Bowling-FB-post-ENG.jpg
ORGANIZER;CN="Czech and Slovak Association of Western Australia%2C Inc.":MAILTO:csa@czechslovakWA.org
END:VEVENT
END:VCALENDAR